BEGIN:VCALENDAR
VERSION:2.0
PRODID:SchoolNow
CALSCALE:GREGORIAN
BEGIN:VEVENT
UID:a7076c62-31c8-11f0-a9d1-0a58a9feac02
DTSTAMP:20260422T031517Z
SUMMARY:Early Release Day (Staff PD)
URL;VALUE=URI:https://schools.shrewsburyma.gov/coolidge/calendar/8140824/ea
 rly-release-day-staff-pd
DTSTART;VALUE=DATE:20260407
DTEND;VALUE=DATE:20260408
END:VEVENT
END:VCALENDAR
