BEGIN:VCALENDAR
VERSION:2.0
PRODID:SchoolNow
CALSCALE:GREGORIAN
BEGIN:VEVENT
UID:a7076b7c-31c8-11f0-94ec-0a58a9feac02
DTSTAMP:20260422T092016Z
SUMMARY:Early Release Day (Staff PD)
URL;VALUE=URI:https://schools.shrewsburyma.gov/coolidge/calendar/8140823/ea
 rly-release-day-staff-pd
DTSTART;VALUE=DATE:20260303
DTEND;VALUE=DATE:20260304
END:VEVENT
END:VCALENDAR
