BEGIN:VCALENDAR
VERSION:2.0
PRODID:SchoolNow
CALSCALE:GREGORIAN
BEGIN:VEVENT
UID:a7076a8c-31c8-11f0-bb69-0a58a9feac02
DTSTAMP:20260422T092016Z
SUMMARY:No School (February Break)
URL;VALUE=URI:https://schools.shrewsburyma.gov/coolidge/calendar/8140822/no
 -school-february-break
DTSTART;VALUE=DATE:20260217
DTEND;VALUE=DATE:20260221
END:VEVENT
END:VCALENDAR
