BEGIN:VCALENDAR
VERSION:2.0
PRODID:SchoolNow
CALSCALE:GREGORIAN
BEGIN:VEVENT
UID:a70769a6-31c8-11f0-8068-0a58a9feac02
DTSTAMP:20260422T092016Z
SUMMARY:No School (Presidents Day)
URL;VALUE=URI:https://schools.shrewsburyma.gov/coolidge/calendar/8140821/no
 -school-presidents-day
DTSTART;VALUE=DATE:20260216
DTEND;VALUE=DATE:20260217
END:VEVENT
END:VCALENDAR
