BEGIN:VCALENDAR
VERSION:2.0
PRODID:SchoolNow
CALSCALE:GREGORIAN
BEGIN:VEVENT
UID:a70768b6-31c8-11f0-8cff-0a58a9feac02
DTSTAMP:20260422T092016Z
SUMMARY:Early Release Day (Staff PD)
URL;VALUE=URI:https://schools.shrewsburyma.gov/coolidge/calendar/8140820/ea
 rly-release-day-staff-pd
DTSTART;VALUE=DATE:20260203
DTEND;VALUE=DATE:20260204
END:VEVENT
END:VCALENDAR
