BEGIN:VCALENDAR
VERSION:2.0
PRODID:SchoolNow
CALSCALE:GREGORIAN
BEGIN:VEVENT
UID:a70766cc-31c8-11f0-b188-0a58a9feac02
DTSTAMP:20260422T092016Z
SUMMARY:No School - December Break
URL;VALUE=URI:https://schools.shrewsburyma.gov/coolidge/calendar/8140818/no
 -school-december-break
DTSTART;VALUE=DATE:20251224
DTEND;VALUE=DATE:20260103
END:VEVENT
END:VCALENDAR
